BEGIN:VCALENDAR
VERSION:2.0
PRODID:-//Indivisible SJC - ECPv6.15.20//NONSGML v1.0//EN
CALSCALE:GREGORIAN
METHOD:PUBLISH
X-WR-CALNAME:Indivisible SJC
X-ORIGINAL-URL:https://indivisiblesjc.org
X-WR-CALDESC:Events for Indivisible SJC
REFRESH-INTERVAL;VALUE=DURATION:PT1H
X-Robots-Tag:noindex
X-PUBLISHED-TTL:PT1H
BEGIN:VTIMEZONE
TZID:America/New_York
BEGIN:DAYLIGHT
TZOFFSETFROM:-0500
TZOFFSETTO:-0400
TZNAME:EDT
DTSTART:20240310T070000
END:DAYLIGHT
BEGIN:STANDARD
TZOFFSETFROM:-0400
TZOFFSETTO:-0500
TZNAME:EST
DTSTART:20241103T060000
END:STANDARD
BEGIN:DAYLIGHT
TZOFFSETFROM:-0500
TZOFFSETTO:-0400
TZNAME:EDT
DTSTART:20250309T070000
END:DAYLIGHT
BEGIN:STANDARD
TZOFFSETFROM:-0400
TZOFFSETTO:-0500
TZNAME:EST
DTSTART:20251102T060000
END:STANDARD
BEGIN:DAYLIGHT
TZOFFSETFROM:-0500
TZOFFSETTO:-0400
TZNAME:EDT
DTSTART:20260308T070000
END:DAYLIGHT
BEGIN:STANDARD
TZOFFSETFROM:-0400
TZOFFSETTO:-0500
TZNAME:EST
DTSTART:20261101T060000
END:STANDARD
END:VTIMEZONE
BEGIN:VEVENT
DTSTART;TZID=America/New_York:20250312T100000
DTEND;TZID=America/New_York:20250312T120000
DTSTAMP:20260419T192618
CREATED:20250306T152241Z
LAST-MODIFIED:20250306T152608Z
UID:76-1741773600-1741780800@indivisiblesjc.org
SUMMARY:Support Ukraine
DESCRIPTION:
URL:https://indivisiblesjc.org/event/support-ukraine/
LOCATION:Castillo de San Marcos National Monument\, 11 S Castillo Dr\, St. Augustine\, FL\, 32086\, United States
ORGANIZER;CN="Indivisible SJC":MAILTO:info@indivisiblesjc.org
END:VEVENT
BEGIN:VEVENT
DTSTART;TZID=America/New_York:20250314T190000
DTEND;TZID=America/New_York:20250314T210000
DTSTAMP:20260419T192618
CREATED:20250310T143757Z
LAST-MODIFIED:20250310T143757Z
UID:132-1741978800-1741986000@indivisiblesjc.org
SUMMARY:March Madness Town Hall with Josh Weil for Congress
DESCRIPTION:Meet Josh Weil\nJoin us for an engaging town hall event with Josh Weil\, candidate for Florida’s 6th Congressional District. This special gathering is your chance to meet Josh\, hear his vision for our community\, and share your thoughts on the issues that matter most to you.
URL:https://indivisiblesjc.org/event/march-madness-town-hall-with-josh-weil-for-congress/
ORGANIZER;CN="Indivisible SJC":MAILTO:info@indivisiblesjc.org
END:VEVENT
END:VCALENDAR